Package: ReportingTools Version: 2.49.0 Command: F:\biocbuild\bbs-3.22-bioc\R\bin\R.exe CMD INSTALL ReportingTools StartedAt: 2025-08-14 16:45:30 -0400 (Thu, 14 Aug 2025) EndedAt: 2025-08-14 16:47:37 -0400 (Thu, 14 Aug 2025) EllapsedTime: 126.9 seconds RetCode: 0 Status: OK