Package: ReportingTools Version: 2.49.0 Command: chmod a+r ReportingTools -R && F:\biocbuild\bbs-3.22-bioc\R\bin\R.exe CMD build --keep-empty-dirs --no-resave-data ReportingTools StartedAt: 2025-08-14 22:43:10 -0400 (Thu, 14 Aug 2025) EndedAt: 2025-08-14 22:46:22 -0400 (Thu, 14 Aug 2025) EllapsedTime: 192.6 seconds RetCode: 0 Status: OK PackageFile: ReportingTools_2.49.0.tar.gz PackageFileSize: 1.788 MiB