Package: ReportingTools Version: 2.49.0 Command: rm -rf ReportingTools.buildbin-libdir && mkdir ReportingTools.buildbin-libdir && F:\biocbuild\bbs-3.22-bioc\R\bin\R.exe CMD INSTALL --build --library=ReportingTools.buildbin-libdir ReportingTools_2.49.0.tar.gz StartedAt: 2025-08-15 11:06:41 -0400 (Fri, 15 Aug 2025) EndedAt: 2025-08-15 11:09:39 -0400 (Fri, 15 Aug 2025) EllapsedTime: 178.4 seconds RetCode: 0 Status: OK PackageFile: ReportingTools_2.49.0.zip PackageFileSize: 1.834 MiB