Package: ReportingTools Version: 2.51.0 Command: /home/biocbuild/bbs-3.23-bioc/R/bin/R CMD INSTALL ReportingTools StartedAt: 2025-11-05 15:53:29 -0500 (Wed, 05 Nov 2025) EndedAt: 2025-11-05 15:54:29 -0500 (Wed, 05 Nov 2025) EllapsedTime: 60.2 seconds RetCode: 0 Status: OK