Package: ReportingTools Version: 2.51.0 Command: /home/biocbuild/bbs-3.23-bioc/R/bin/R CMD check --install=check:ReportingTools.install-out.txt --library=/home/biocbuild/bbs-3.23-bioc/R/site-library --timings ReportingTools_2.51.0.tar.gz StartedAt: 2025-11-07 02:54:40 -0500 (Fri, 07 Nov 2025) EndedAt: 2025-11-07 03:04:48 -0500 (Fri, 07 Nov 2025) EllapsedTime: 607.3 seconds RetCode: 0 Status: OK CheckDir: ReportingTools.Rcheck Warnings: 0