Package: RepViz Version: 1.25.0 Command: chmod a+r RepViz -R && F:\biocbuild\bbs-3.22-bioc\R\bin\R.exe CMD build --keep-empty-dirs --no-resave-data RepViz StartedAt: 2025-08-14 22:43:11 -0400 (Thu, 14 Aug 2025) EndedAt: 2025-08-14 22:44:03 -0400 (Thu, 14 Aug 2025) EllapsedTime: 51.9 seconds RetCode: 0 Status: OK PackageFile: RepViz_1.25.0.tar.gz PackageFileSize: 188.6 KiB