Package: RepViz Version: 1.25.0 Command: rm -rf RepViz.buildbin-libdir && mkdir RepViz.buildbin-libdir && F:\biocbuild\bbs-3.22-bioc\R\bin\R.exe CMD INSTALL --build --library=RepViz.buildbin-libdir RepViz_1.25.0.tar.gz StartedAt: 2025-08-15 11:06:43 -0400 (Fri, 15 Aug 2025) EndedAt: 2025-08-15 11:07:07 -0400 (Fri, 15 Aug 2025) EllapsedTime: 24.4 seconds RetCode: 0 Status: OK PackageFile: RepViz_1.25.0.zip PackageFileSize: 233 KiB