Package: RepViz Version: 1.27.0 Command: /home/biocbuild/bbs-3.23-bioc/R/bin/R CMD INSTALL RepViz StartedAt: 2025-11-05 15:33:38 -0500 (Wed, 05 Nov 2025) EndedAt: 2025-11-05 15:33:54 -0500 (Wed, 05 Nov 2025) EllapsedTime: 15.8 seconds RetCode: 0 Status: OK