Package: RepViz Version: 1.27.0 Command: /home/biocbuild/bbs-3.23-bioc/R/bin/R CMD build --keep-empty-dirs --no-resave-data RepViz StartedAt: 2025-11-05 19:36:24 -0500 (Wed, 05 Nov 2025) EndedAt: 2025-11-05 19:36:53 -0500 (Wed, 05 Nov 2025) EllapsedTime: 29.0 seconds RetCode: 1 Status: ERROR PackageFile: None PackageFileSize: NA