Package: RegionalST Version: 1.9.0 Command: /home/biocbuild/bbs-3.23-bioc/R/bin/R CMD INSTALL RegionalST StartedAt: 2025-11-20 15:56:51 -0500 (Thu, 20 Nov 2025) EndedAt: 2025-11-20 15:57:19 -0500 (Thu, 20 Nov 2025) EllapsedTime: 27.8 seconds RetCode: 0 Status: OK