Package: RegionalST Version: 1.7.1 Command: /Library/Frameworks/R.framework/Resources/bin/R CMD INSTALL RegionalST StartedAt: 2025-10-22 15:31:17 -0400 (Wed, 22 Oct 2025) EndedAt: 2025-10-22 15:31:28 -0400 (Wed, 22 Oct 2025) EllapsedTime: 11.5 seconds RetCode: 0 Status: OK