Package: RegionalST Version: 1.7.1 Command: /Library/Frameworks/R.framework/Resources/bin/R CMD build --keep-empty-dirs --no-resave-data RegionalST StartedAt: 2025-10-22 17:30:42 -0400 (Wed, 22 Oct 2025) EndedAt: 2025-10-22 17:31:22 -0400 (Wed, 22 Oct 2025) EllapsedTime: 40.5 seconds RetCode: 0 Status: OK PackageFile: RegionalST_1.7.1.tar.gz PackageFileSize: 4.322 MiB