Package: RegionalST Version: 1.7.1 Command: rm -rf RegionalST.buildbin-libdir && mkdir RegionalST.buildbin-libdir && /Users/biocbuild/BBS/utils/build-universal.sh RegionalST_1.7.1.tar.gz /Library/Frameworks/R.framework/Resources/bin/R RegionalST.buildbin-libdir StartedAt: 2025-10-22 23:13:29 -0400 (Wed, 22 Oct 2025) EndedAt: 2025-10-22 23:13:41 -0400 (Wed, 22 Oct 2025) EllapsedTime: 12.2 seconds RetCode: 0 Status: OK PackageFile: RegionalST_1.7.1.tgz PackageFileSize: 3.949 MiB