Package: RegEnrich Version: 1.21.0 Command: /home/biocbuild/bbs-3.23-bioc/R/bin/R CMD INSTALL RegEnrich StartedAt: 2025-11-05 15:51:22 -0500 (Wed, 05 Nov 2025) EndedAt: 2025-11-05 15:51:58 -0500 (Wed, 05 Nov 2025) EllapsedTime: 36.5 seconds RetCode: 0 Status: OK