Package: RegEnrich Version: 1.19.0 Command: /Library/Frameworks/R.framework/Resources/bin/R CMD INSTALL RegEnrich StartedAt: 2025-10-14 15:39:51 -0400 (Tue, 14 Oct 2025) EndedAt: 2025-10-14 15:40:44 -0400 (Tue, 14 Oct 2025) EllapsedTime: 52.8 seconds RetCode: 0 Status: OK