Package: RegEnrich Version: 1.19.0 Command: /Library/Frameworks/R.framework/Resources/bin/R CMD build --keep-empty-dirs --no-resave-data RegEnrich StartedAt: 2025-10-14 18:54:53 -0400 (Tue, 14 Oct 2025) EndedAt: 2025-10-14 19:01:00 -0400 (Tue, 14 Oct 2025) EllapsedTime: 367.4 seconds RetCode: 0 Status: OK PackageFile: RegEnrich_1.19.0.tar.gz PackageFileSize: 1.136 MiB