Package: ReducedExperiment Version: 1.1.2 Command: /home/biocbuild/R/R/bin/R CMD build --keep-empty-dirs --no-resave-data ReducedExperiment StartedAt: 2025-10-21 02:22:49 -0000 (Tue, 21 Oct 2025) EndedAt: 2025-10-21 02:26:45 -0000 (Tue, 21 Oct 2025) EllapsedTime: 236.1 seconds RetCode: 0 Status: OK PackageFile: ReducedExperiment_1.1.2.tar.gz PackageFileSize: 1.862 MiB