Package: ReducedExperiment Version: 1.3.0 Command: /home/biocbuild/bbs-3.23-bioc/R/bin/R CMD build --keep-empty-dirs --no-resave-data ReducedExperiment StartedAt: 2025-11-05 19:35:01 -0500 (Wed, 05 Nov 2025) EndedAt: 2025-11-05 19:37:37 -0500 (Wed, 05 Nov 2025) EllapsedTime: 156.2 seconds RetCode: 0 Status: OK PackageFile: ReducedExperiment_1.3.0.tar.gz PackageFileSize: 3.271 MiB