Package: RedisParam Version: 1.11.0 Command: chmod a+r RedisParam -R && F:\biocbuild\bbs-3.22-bioc\R\bin\R.exe CMD build --keep-empty-dirs --no-resave-data RedisParam StartedAt: 2025-08-14 22:41:30 -0400 (Thu, 14 Aug 2025) EndedAt: 2025-08-14 22:42:12 -0400 (Thu, 14 Aug 2025) EllapsedTime: 41.5 seconds RetCode: 0 Status: OK PackageFile: RedisParam_1.11.0.tar.gz PackageFileSize: 950.6 KiB