Package: RedisParam Version: 1.11.0 Command: rm -rf RedisParam.buildbin-libdir && mkdir RedisParam.buildbin-libdir && F:\biocbuild\bbs-3.22-bioc\R\bin\R.exe CMD INSTALL --build --library=RedisParam.buildbin-libdir RedisParam_1.11.0.tar.gz StartedAt: 2025-08-15 11:05:50 -0400 (Fri, 15 Aug 2025) EndedAt: 2025-08-15 11:06:41 -0400 (Fri, 15 Aug 2025) EllapsedTime: 50.5 seconds RetCode: 0 Status: OK PackageFile: RedisParam_1.11.0.zip PackageFileSize: 1024 KiB