Package: RedisParam Version: 1.13.0 Command: /home/biocbuild/bbs-3.23-bioc/R/bin/R CMD INSTALL RedisParam StartedAt: 2025-11-20 15:10:19 -0500 (Thu, 20 Nov 2025) EndedAt: 2025-11-20 15:10:34 -0500 (Thu, 20 Nov 2025) EllapsedTime: 14.2 seconds RetCode: 0 Status: OK