Package: RedisParam Version: 1.13.0 Command: /home/biocbuild/bbs-3.23-bioc/R/bin/R CMD build --keep-empty-dirs --no-resave-data RedisParam StartedAt: 2025-11-20 19:33:09 -0500 (Thu, 20 Nov 2025) EndedAt: 2025-11-20 19:33:16 -0500 (Thu, 20 Nov 2025) EllapsedTime: 7.0 seconds RetCode: 0 Status: OK PackageFile: RedisParam_1.13.0.tar.gz PackageFileSize: 950.5 KiB