Package: RedeR Version: 3.5.0 Command: /home/biocbuild/R/R/bin/R CMD INSTALL RedeR StartedAt: 2025-10-09 20:55:08 -0000 (Thu, 09 Oct 2025) EndedAt: 2025-10-09 20:55:40 -0000 (Thu, 09 Oct 2025) EllapsedTime: 31.8 seconds RetCode: 0 Status: OK