Package: RedeR Version: 3.5.0 Command: /home/biocbuild/R/R/bin/R CMD build --keep-empty-dirs --no-resave-data RedeR StartedAt: 2025-10-10 03:23:37 -0000 (Fri, 10 Oct 2025) EndedAt: 2025-10-10 03:23:57 -0000 (Fri, 10 Oct 2025) EllapsedTime: 20.0 seconds RetCode: 0 Status: OK PackageFile: RedeR_3.5.0.tar.gz PackageFileSize: 4.416 MiB