Package: RedeR Version: 3.7.0 Command: /home/biocbuild/bbs-3.23-bioc/R/bin/R CMD INSTALL RedeR StartedAt: 2025-11-20 15:04:59 -0500 (Thu, 20 Nov 2025) EndedAt: 2025-11-20 15:05:16 -0500 (Thu, 20 Nov 2025) EllapsedTime: 16.5 seconds RetCode: 0 Status: OK