Package: RedeR Version: 3.7.0 Command: /home/biocbuild/bbs-3.23-bioc/R/bin/R CMD check --install=check:RedeR.install-out.txt --library=/home/biocbuild/bbs-3.23-bioc/R/site-library --timings RedeR_3.7.0.tar.gz StartedAt: 2025-11-22 03:06:20 -0500 (Sat, 22 Nov 2025) EndedAt: 2025-11-22 03:06:59 -0500 (Sat, 22 Nov 2025) EllapsedTime: 39.0 seconds RetCode: 0 Status: OK CheckDir: RedeR.Rcheck Warnings: 0