Package: ReadqPCR Version: 1.55.0 Command: /home/biocbuild/R/R/bin/R CMD INSTALL ReadqPCR StartedAt: 2025-10-16 21:24:30 -0000 (Thu, 16 Oct 2025) EndedAt: 2025-10-16 21:24:37 -0000 (Thu, 16 Oct 2025) EllapsedTime: 7.5 seconds RetCode: 0 Status: OK