Package: ReadqPCR Version: 1.55.0 Command: /home/biocbuild/R/R/bin/R CMD build --keep-empty-dirs --no-resave-data ReadqPCR StartedAt: 2025-10-17 03:53:14 -0000 (Fri, 17 Oct 2025) EndedAt: 2025-10-17 03:53:24 -0000 (Fri, 17 Oct 2025) EllapsedTime: 10.0 seconds RetCode: 0 Status: OK PackageFile: ReadqPCR_1.55.0.tar.gz PackageFileSize: 484.5 KiB