Package: ReadqPCR Version: 1.55.0 Command: /home/biocbuild/bbs-3.22-bioc/R/bin/R CMD check --install=check:ReadqPCR.install-out.txt --library=/home/biocbuild/bbs-3.22-bioc/R/site-library --timings ReadqPCR_1.55.0.tar.gz StartedAt: 2025-10-22 03:49:21 -0400 (Wed, 22 Oct 2025) EndedAt: 2025-10-22 03:49:50 -0400 (Wed, 22 Oct 2025) EllapsedTime: 29.1 seconds RetCode: 0 Status: OK CheckDir: ReadqPCR.Rcheck Warnings: 0