Package: ReadqPCR Version: 1.57.0 Command: /home/biocbuild/bbs-3.23-bioc/R/bin/R CMD build --keep-empty-dirs --no-resave-data ReadqPCR StartedAt: 2025-11-02 19:27:34 -0500 (Sun, 02 Nov 2025) EndedAt: 2025-11-02 19:27:42 -0500 (Sun, 02 Nov 2025) EllapsedTime: 8.0 seconds RetCode: 0 Status: OK PackageFile: ReadqPCR_1.57.0.tar.gz PackageFileSize: 490.7 KiB