Package: ReadqPCR Version: 1.55.0 Command: /Library/Frameworks/R.framework/Resources/bin/R CMD INSTALL ReadqPCR StartedAt: 2025-09-30 15:14:43 -0400 (Tue, 30 Sep 2025) EndedAt: 2025-09-30 15:15:00 -0400 (Tue, 30 Sep 2025) EllapsedTime: 16.6 seconds RetCode: 0 Status: OK