Package: ReadqPCR Version: 1.55.0 Command: /Library/Frameworks/R.framework/Resources/bin/R CMD build --keep-empty-dirs --no-resave-data ReadqPCR StartedAt: 2025-09-30 18:26:48 -0400 (Tue, 30 Sep 2025) EndedAt: 2025-09-30 18:27:04 -0400 (Tue, 30 Sep 2025) EllapsedTime: 16.1 seconds RetCode: 0 Status: OK PackageFile: ReadqPCR_1.55.0.tar.gz PackageFileSize: 490.3 KiB