Package: ReadqPCR Version: 1.55.0 Command: rm -rf ReadqPCR.buildbin-libdir && mkdir ReadqPCR.buildbin-libdir && /Users/biocbuild/BBS/utils/build-universal.sh ReadqPCR_1.55.0.tar.gz /Library/Frameworks/R.framework/Resources/bin/R ReadqPCR.buildbin-libdir StartedAt: 2025-10-01 02:01:01 -0400 (Wed, 01 Oct 2025) EndedAt: 2025-10-01 02:01:09 -0400 (Wed, 01 Oct 2025) EllapsedTime: 8.2 seconds RetCode: 0 Status: OK PackageFile: ReadqPCR_1.55.0.tgz PackageFileSize: 567.8 KiB