Package: ReadqPCR Version: 1.57.0 Command: /Library/Frameworks/R.framework/Resources/bin/R CMD INSTALL ReadqPCR StartedAt: 2025-11-20 15:07:12 -0500 (Thu, 20 Nov 2025) EndedAt: 2025-11-20 15:07:13 -0500 (Thu, 20 Nov 2025) EllapsedTime: 1.3 seconds RetCode: 0 Status: OK