Package: ReadqPCR Version: 1.57.0 Command: /Library/Frameworks/R.framework/Resources/bin/R CMD check --install=check:ReadqPCR.install-out.txt --library=/Library/Frameworks/R.framework/Resources/library --no-vignettes --timings ReadqPCR_1.57.0.tar.gz StartedAt: 2025-11-21 21:56:21 -0500 (Fri, 21 Nov 2025) EndedAt: 2025-11-21 21:56:38 -0500 (Fri, 21 Nov 2025) EllapsedTime: 17.4 seconds RetCode: 0 Status: OK CheckDir: ReadqPCR.Rcheck Warnings: 0