Package: ReadqPCR Version: 1.57.0 Command: /Library/Frameworks/R.framework/Resources/bin/R CMD build --keep-empty-dirs --no-resave-data ReadqPCR StartedAt: 2025-11-20 17:25:24 -0500 (Thu, 20 Nov 2025) EndedAt: 2025-11-20 17:25:29 -0500 (Thu, 20 Nov 2025) EllapsedTime: 5.1 seconds RetCode: 0 Status: OK PackageFile: ReadqPCR_1.57.0.tar.gz PackageFileSize: 490.7 KiB