Package: ReactomePA Version: 1.53.0 Command: /home/biocbuild/R/R/bin/R CMD INSTALL ReactomePA StartedAt: 2025-10-02 21:16:23 -0000 (Thu, 02 Oct 2025) EndedAt: 2025-10-02 21:16:55 -0000 (Thu, 02 Oct 2025) EllapsedTime: 32.2 seconds RetCode: 0 Status: OK