Package: ReactomePA Version: 1.53.0 Command: /home/biocbuild/R/R/bin/R CMD build --keep-empty-dirs --no-resave-data ReactomePA StartedAt: 2025-10-03 02:30:11 -0000 (Fri, 03 Oct 2025) EndedAt: 2025-10-03 02:30:53 -0000 (Fri, 03 Oct 2025) EllapsedTime: 42.0 seconds RetCode: 0 Status: OK PackageFile: ReactomePA_1.53.0.tar.gz PackageFileSize: 58.55 KiB