Package: ReactomePA Version: 1.53.0 Command: rm -rf ReactomePA.buildbin-libdir && mkdir ReactomePA.buildbin-libdir && F:\biocbuild\bbs-3.22-bioc\R\bin\R.exe CMD INSTALL --build --library=ReactomePA.buildbin-libdir ReactomePA_1.53.0.tar.gz StartedAt: 2025-08-15 11:05:18 -0400 (Fri, 15 Aug 2025) EndedAt: 2025-08-15 11:06:02 -0400 (Fri, 15 Aug 2025) EllapsedTime: 44.0 seconds RetCode: 0 Status: OK PackageFile: ReactomePA_1.53.0.zip PackageFileSize: 95.34 KiB