Package: ReactomePA Version: 1.53.0 Command: /home/biocbuild/bbs-3.22-bioc/R/bin/R CMD INSTALL ReactomePA StartedAt: 2025-10-03 15:45:25 -0400 (Fri, 03 Oct 2025) EndedAt: 2025-10-03 15:45:49 -0400 (Fri, 03 Oct 2025) EllapsedTime: 23.3 seconds RetCode: 0 Status: OK