Package: ReactomePA Version: 1.53.0 Command: /home/biocbuild/bbs-3.22-bioc/R/bin/R CMD check --install=check:ReactomePA.install-out.txt --library=/home/biocbuild/bbs-3.22-bioc/R/site-library --timings ReactomePA_1.53.0.tar.gz StartedAt: 2025-10-04 03:18:53 -0400 (Sat, 04 Oct 2025) EndedAt: 2025-10-04 03:23:05 -0400 (Sat, 04 Oct 2025) EllapsedTime: 252.3 seconds RetCode: 0 Status: OK CheckDir: ReactomePA.Rcheck Warnings: 0