Package: ReactomePA Version: 1.55.0 Command: /home/biocbuild/bbs-3.23-bioc/R/bin/R CMD check --install=check:ReactomePA.install-out.txt --library=/home/biocbuild/bbs-3.23-bioc/R/site-library --timings ReactomePA_1.55.0.tar.gz StartedAt: 2025-11-07 02:50:27 -0500 (Fri, 07 Nov 2025) EndedAt: 2025-11-07 02:54:40 -0500 (Fri, 07 Nov 2025) EllapsedTime: 253.4 seconds RetCode: 0 Status: OK CheckDir: ReactomePA.Rcheck Warnings: 0