Package: ReactomePA Version: 1.53.0 Command: /Library/Frameworks/R.framework/Resources/bin/R CMD INSTALL ReactomePA StartedAt: 2025-10-03 15:40:24 -0400 (Fri, 03 Oct 2025) EndedAt: 2025-10-03 15:40:57 -0400 (Fri, 03 Oct 2025) EllapsedTime: 32.5 seconds RetCode: 0 Status: OK