Package: ReactomePA Version: 1.53.0 Command: /Library/Frameworks/R.framework/Resources/bin/R CMD build --keep-empty-dirs --no-resave-data ReactomePA StartedAt: 2025-10-03 18:38:58 -0400 (Fri, 03 Oct 2025) EndedAt: 2025-10-03 18:39:41 -0400 (Fri, 03 Oct 2025) EllapsedTime: 42.4 seconds RetCode: 0 Status: OK PackageFile: ReactomePA_1.53.0.tar.gz PackageFileSize: 57.2 KiB