Package: ReactomePA Version: 1.53.0 Command: rm -rf ReactomePA.buildbin-libdir && mkdir ReactomePA.buildbin-libdir && /Users/biocbuild/BBS/utils/build-universal.sh ReactomePA_1.53.0.tar.gz /Library/Frameworks/R.framework/Resources/bin/R ReactomePA.buildbin-libdir StartedAt: 2025-10-04 02:24:01 -0400 (Sat, 04 Oct 2025) EndedAt: 2025-10-04 02:24:37 -0400 (Sat, 04 Oct 2025) EllapsedTime: 36.0 seconds RetCode: 0 Status: OK PackageFile: ReactomePA_1.53.0.tgz PackageFileSize: 92.65 KiB