Package: ReactomePA Version: 1.53.0 Command: /Library/Frameworks/R.framework/Resources/bin/R CMD INSTALL ReactomePA StartedAt: 2025-10-03 15:24:54 -0400 (Fri, 03 Oct 2025) EndedAt: 2025-10-03 15:25:03 -0400 (Fri, 03 Oct 2025) EllapsedTime: 9.1 seconds RetCode: 0 Status: OK