Package: ReactomePA Version: 1.53.0 Command: rm -rf ReactomePA.buildbin-libdir && mkdir ReactomePA.buildbin-libdir && /Users/biocbuild/BBS/utils/build-universal.sh ReactomePA_1.53.0.tar.gz /Library/Frameworks/R.framework/Resources/bin/R ReactomePA.buildbin-libdir StartedAt: 2025-10-03 22:51:57 -0400 (Fri, 03 Oct 2025) EndedAt: 2025-10-03 22:52:07 -0400 (Fri, 03 Oct 2025) EllapsedTime: 10.3 seconds RetCode: 0 Status: OK PackageFile: ReactomePA_1.53.0.tgz PackageFileSize: 93.13 KiB