Package: ReactomeGraph4R Version: 1.17.1 Command: /home/biocbuild/bbs-3.23-bioc/R/bin/R CMD INSTALL ReactomeGraph4R StartedAt: 2025-10-22 21:53:22 -0000 (Wed, 22 Oct 2025) EndedAt: 2025-10-22 21:53:24 -0000 (Wed, 22 Oct 2025) EllapsedTime: 2.1 seconds RetCode: 1 Status: ERROR