############################################################################## ############################################################################## ### ### Running command: ### ### /home/biocbuild/bbs-3.23-bioc/R/bin/R CMD build --keep-empty-dirs --no-resave-data ReactomeGraph4R ### ############################################################################## ############################################################################## * checking for file ‘ReactomeGraph4R/DESCRIPTION’ ... OK * preparing ‘ReactomeGraph4R’: * checking DESCRIPTION meta-information ... OK * installing the package (it is needed to build vignettes) ----------------------------------- ERROR: dependency ‘ReactomeContentService4R’ is not available for package ‘ReactomeGraph4R’ Perhaps try a variation of: install.packages('ReactomeContentService4R') * removing ‘/tmp/RtmpyVDpQM/Rinst17796e74db6942/ReactomeGraph4R’ ----------------------------------- ERROR: package installation failed