Package: ReactomeGSA Version: 1.23.0 Command: /home/biocbuild/R/R/bin/R CMD check --install=check:ReactomeGSA.install-out.txt --library=/home/biocbuild/R/R/site-library --no-vignettes --timings ReactomeGSA_1.23.0.tar.gz StartedAt: 2025-10-03 10:39:11 -0000 (Fri, 03 Oct 2025) EndedAt: 2025-10-03 10:58:00 -0000 (Fri, 03 Oct 2025) EllapsedTime: 1129.5 seconds RetCode: 0 Status: OK CheckDir: ReactomeGSA.Rcheck Warnings: 0